BEGIN:VCALENDAR
VERSION:2.0
PRODID: https://feriados.com.pt/
METHOD:PUBLISH
CALSCALE:GREGORIAN
NAME:Feriados Nova Zelândia 2026
X-WR-CALNAME:Feriados Nova Zelândia 2026
DESCRIPTION:A service of feriados.com.pt. All data without guarantee! / Alle Angaben ohne Gewähr!
X-WR-CALDESC:A service of feriados.com.pt. All data without guarantee! / Alle Angaben ohne Gewähr!
BEGIN:VEVENT
UID:nova-zelandia--2026-1@feriados.com.pt
DTSTAMP:20260101T000000
DTSTART;VALUE=DATE:20260101
SUMMARY:New Year's Day  / Ano-Novo 
DESCRIPTION:feriado nacional na Nova Zelândia | feriados.com.pt. All data without guarantee! / Alle Angaben ohne Gewähr!
STATUS:CONFIRMED
END:VEVENT
BEGIN:VEVENT
UID:nova-zelandia--2026-2@feriados.com.pt
DTSTAMP:20260102T000000
DTSTART;VALUE=DATE:20260102
SUMMARY:Day after New Year's Day  / Feriado depois do Ano-Novo 
DESCRIPTION:feriado nacional na Nova Zelândia | feriados.com.pt. All data without guarantee! / Alle Angaben ohne Gewähr!
STATUS:CONFIRMED
END:VEVENT
BEGIN:VEVENT
UID:nova-zelandia--2026-3@feriados.com.pt
DTSTAMP:20260206T000000
DTSTART;VALUE=DATE:20260206
SUMMARY:Waitangi Day / Feriado nacional neozelandês 
DESCRIPTION:feriado nacional na Nova Zelândia | feriados.com.pt. All data without guarantee! / Alle Angaben ohne Gewähr!
STATUS:CONFIRMED
END:VEVENT
BEGIN:VEVENT
UID:nova-zelandia--2026-4@feriados.com.pt
DTSTAMP:20260403T000000
DTSTART;VALUE=DATE:20260403
SUMMARY:Good Friday / Sexta-Feira Santa 
DESCRIPTION:feriado nacional na Nova Zelândia | feriados.com.pt. All data without guarantee! / Alle Angaben ohne Gewähr!
STATUS:CONFIRMED
END:VEVENT
BEGIN:VEVENT
UID:nova-zelandia--2026-5@feriados.com.pt
DTSTAMP:20260406T000000
DTSTART;VALUE=DATE:20260406
SUMMARY:Easter Monday / Segunda-feira de Páscoa 
DESCRIPTION:feriado nacional na Nova Zelândia | feriados.com.pt. All data without guarantee! / Alle Angaben ohne Gewähr!
STATUS:CONFIRMED
END:VEVENT
BEGIN:VEVENT
UID:nova-zelandia--2026-6@feriados.com.pt
DTSTAMP:20260425T000000
DTSTART;VALUE=DATE:20260425
SUMMARY:Anzac Day / Dia das Forças Armadas da Austrália e Nova Zelândi 
DESCRIPTION:feriado nacional na Nova Zelândia | feriados.com.pt. All data without guarantee! / Alle Angaben ohne Gewähr!
STATUS:CONFIRMED
END:VEVENT
BEGIN:VEVENT
UID:nova-zelandia--2026-7@feriados.com.pt
DTSTAMP:20260427T000000
DTSTART;VALUE=DATE:20260427
SUMMARY:Anzac Day / Dia das Forças Armadas da Austrália e Nova Zelândi 
DESCRIPTION:feriado nacional na Nova Zelândia | feriados.com.pt. All data without guarantee! / Alle Angaben ohne Gewähr!
STATUS:CONFIRMED
END:VEVENT
BEGIN:VEVENT
UID:nova-zelandia--2026-8@feriados.com.pt
DTSTAMP:20260601T000000
DTSTART;VALUE=DATE:20260601
SUMMARY:King’s Birthday 
DESCRIPTION:feriado nacional na Nova Zelândia | feriados.com.pt. All data without guarantee! / Alle Angaben ohne Gewähr!
STATUS:CONFIRMED
END:VEVENT
BEGIN:VEVENT
UID:nova-zelandia--2026-9@feriados.com.pt
DTSTAMP:20260710T000000
DTSTART;VALUE=DATE:20260710
SUMMARY:Matariki 
DESCRIPTION:feriado nacional na Nova Zelândia | feriados.com.pt. All data without guarantee! / Alle Angaben ohne Gewähr!
STATUS:CONFIRMED
END:VEVENT
BEGIN:VEVENT
UID:nova-zelandia--2026-10@feriados.com.pt
DTSTAMP:20261026T000000
DTSTART;VALUE=DATE:20261026
SUMMARY:Labour Day / Dia do Trabalhador 
DESCRIPTION:feriado nacional na Nova Zelândia | feriados.com.pt. All data without guarantee! / Alle Angaben ohne Gewähr!
STATUS:CONFIRMED
END:VEVENT
BEGIN:VEVENT
UID:nova-zelandia--2026-11@feriados.com.pt
DTSTAMP:20261225T000000
DTSTART;VALUE=DATE:20261225
SUMMARY:Christmas Day / Natal 
DESCRIPTION:feriado nacional na Nova Zelândia | feriados.com.pt. All data without guarantee! / Alle Angaben ohne Gewähr!
STATUS:CONFIRMED
END:VEVENT
BEGIN:VEVENT
UID:nova-zelandia--2026-12@feriados.com.pt
DTSTAMP:20261226T000000
DTSTART;VALUE=DATE:20261226
SUMMARY:Boxing Day / Natal 
DESCRIPTION:feriado nacional na Nova Zelândia | feriados.com.pt. All data without guarantee! / Alle Angaben ohne Gewähr!
STATUS:CONFIRMED
END:VEVENT
BEGIN:VEVENT
UID:nova-zelandia--2026-13@feriados.com.pt
DTSTAMP:20261228T000000
DTSTART;VALUE=DATE:20261228
SUMMARY:Boxing Day / Natal 
DESCRIPTION:feriado nacional na Nova Zelândia | feriados.com.pt. All data without guarantee! / Alle Angaben ohne Gewähr!
STATUS:CONFIRMED
END:VEVENT
END:VCALENDAR